BEGIN:VCALENDAR
VERSION:2.0
PRODID:-//eventon.com NONSGML v1.0//EN
CALSCALE:GREGORIAN
METHOD:PUBLISH
BEGIN:VEVENT
UID:69e4cd2526156
DTSTAMP:20260419T124005Z
DTSTART:20260421
DTEND:20260422
LOCATION:Hyatt Regency Köln Hyatt Regency Köln Kennedy-Ufer 2 A\,  50679 Köln
SUMMARY:Emissionsüberwachung bei genehmigungsbedürftigen Anlagen
DESCRIPTION:Dr. Karsten Keller: 11. Expert Meeting des TÜV Rheinland: „E
 missionsüberwachung bei genehmigungsbedürftigen Anlagen“ am 21.04.2026 
 Die Anforderungen an die Emissionsüberwachung genehmigungsbedürftiger Anl
 agen entwickeln sich auf europäischer und nationaler Ebene mit hoher Dynam
 ik weiter. Für Betreiber von Industrieanlagen stellen sich damit nicht nur
  technische und organisatorische\,  sondern zunehmend auch komplexe rechtli
 che[..]\nhttps://wolter-hoppenberg.de/aktuelle-termine/emissionsueberwachun
 g-bei-genehmigungsbeduerftigen-anlagen/
URL:https://wolter-hoppenberg.de/aktuelle-termine/emissionsueberwachung-bei-genehmigungsbeduerftigen-anlagen/
END:VEVENT
END:VCALENDAR