BEGIN:VCALENDAR
VERSION:2.0
PRODID:-//eventon.com NONSGML v1.0//EN
CALSCALE:GREGORIAN
METHOD:PUBLISH
BEGIN:VEVENT
UID:69e4cd7958695
DTSTAMP:20260419T124129Z
DTSTART:20260528T093000Z
DTEND:20260528T110000Z
LOCATION:Café Favela Weststraße 77\,  59227 Ahlen
SUMMARY:KI-JOURNEY durch den Kreis Warendorf - Station 2: Café Favela in Ahlen
DESCRIPTION:Starte deine KI-Journey durch den Kreis Warendorf mit dem erste
 n Halt: Wir zeigen\,  wie Unternehmen jeder Größe von KI profitieren kön
 nen. Lerne von Startups\,  wie kleine Teams große Wirkung erzielen\,  und 
 nicht nur Aufgaben automatisieren\,  sondern die Betriebsstrukturen vereinf
 achen. Thema in Station 2: Schatten-KI bezeichnet die&nbsp;Nutzung nicht of
 fiziell freigegebener KI-Tools\, [..]\nhttps://wolter-hoppenberg.de/aktuell
 e-termine/ki-journey-durch-den-kreis-warendorf-station-2-cafe-favela-in-ahl
 en/
URL:https://wolter-hoppenberg.de/aktuelle-termine/ki-journey-durch-den-kreis-warendorf-station-2-cafe-favela-in-ahlen/
END:VEVENT
END:VCALENDAR