BEGIN:VCALENDAR
VERSION:2.0
PRODID:-//eventon.com NONSGML v1.0//EN
CALSCALE:GREGORIAN
METHOD:PUBLISH
BEGIN:VEVENT
UID:69e4cd8c506ad
DTSTAMP:20260419T124148Z
DTSTART:20260513
DTEND:20260514
LOCATION:IWU Magdeburg Maxim-Gorki-Str. 13\,  Magdeburg\,  39108
SUMMARY:IWU - Das Bergrecht - Grundlagen und umweltrechtliche Bezüge
DESCRIPTION:Der Abbau von Rohstoffen hat vielfältige Auswirkungen auf die 
 Umwelt. Am markantesten sind oft die Folgen für die Natur in der Umgebung 
 oder das Grundwasser und die Gewässer. Daher werden die Maßstäbe für di
 e Zulassung oft auch außerhalb des Bergrechts gesetzt\,  zum Beispiel im N
 aturschutz- und Wasserrecht. Im Seminar erhalten[..]\nhttps://wolter-hoppen
 berg.de/aktuelle-termine/iwu-das-bergrecht-grundlagen-und-umweltrechtliche-
 bezuege/
URL:https://wolter-hoppenberg.de/aktuelle-termine/iwu-das-bergrecht-grundlagen-und-umweltrechtliche-bezuege/
END:VEVENT
END:VCALENDAR