BEGIN:VCALENDAR
VERSION:2.0
PRODID:-//eventon.com NONSGML v1.0//EN
CALSCALE:GREGORIAN
METHOD:PUBLISH
BEGIN:VEVENT
UID:69e4e5d713684
DTSTAMP:20260419T142527Z
DTSTART:20260424
DTEND:20260425
LOCATION:Mannheim Mannheim
SUMMARY:53. Tagung des DWA-GesprÃ¤chskreises â€žKaufmÃ¤nnische Leiter der groÃŸen Abwasserbetriebeâ€œ
DESCRIPTION:Am 24.04.2026 findet die 53. Tagung des DWA-GesprÃ¤chskreises â
 €žKaufmÃ¤nnische Leiter der groÃŸen Abwasserbetriebeâ€œ statt. Markus Heinr
 ich referiert hier zum Thema â€žKRITIS DachG: Auswirkungen auf Betreiber un
 d Organisationenâ€œ und berichtet von seinen Erfahrungen aus der Praxis. Ne
 ben aktuellen VortrÃ¤gen bietet das Forum hervorragende MÃ¶glichkeiten zum 
 fachlichen Austausch. Es werden pragmatische ProblemlÃ¶sungen[..]\nhttps://
 wolter-hoppenberg.de/aktuelle-termine/53-tagung-des-dwa-gespraechskreises-k
 aufmaennische-leiter-der-grossen-abwasserbetriebe/
URL:https://wolter-hoppenberg.de/aktuelle-termine/53-tagung-des-dwa-gespraechskreises-kaufmaennische-leiter-der-grossen-abwasserbetriebe/
END:VEVENT
END:VCALENDAR