BEGIN:VCALENDAR
VERSION:2.0
PRODID:-//eventon.com NONSGML v1.0//EN
CALSCALE:GREGORIAN
METHOD:PUBLISH
BEGIN:VEVENT
UID:69e4cf1b6cba2
DTSTAMP:20260419T124827Z
DTSTART:20260421
DTEND:20260422
LOCATION:Offenbach Offenbach
SUMMARY:Erfahrungsaustausch des VDE für Technisches Sicherheitsmanagement (TSM)
DESCRIPTION:Der TSM-Erfahrungsaustausch des VDE richtet sich an die technis
 chen Führungskräfte der Versorgungsunternehmen und Netzbetreiber sowie so
 nstige an der Thematik interessierte Personen und informiert über aktuelle
  Entwicklungen und den neusten Stand des technischen Sicherheitsmanagements
 . Neben einem aktuellen Vortragsangebot bietet das Forum Fachkräften beste
  Möglichkeiten zum fachlichen Austausch. Es werden pragmatische Problemlö
 sungen[..]\nhttps://wolter-hoppenberg.de/aktuelle-termine/erfahrungsaustaus
 ch-des-vde-fuer-technisches-sicherheitsmanagement-tsm/
URL:https://wolter-hoppenberg.de/aktuelle-termine/erfahrungsaustausch-des-vde-fuer-technisches-sicherheitsmanagement-tsm/
END:VEVENT
END:VCALENDAR